BEGIN:VCALENDAR
VERSION:2.0
PRODID:-//Tukios.com/
BEGIN:VEVENT
UID:68fd9bb6-9481-450b-abdc-4e58f1f11840@www.perrykomdat.com
DTSTAMP:20260425T211352Z
DTSTART:20260428T200000Z
DTEND:20260428T230000Z
SUMMARY:Visitation
DESCRIPTION:
URL:https://www.perrykomdat.com/obituaries/dennis-lemner-sr
LOCATION: 2691 NY-43  Glass Lake NY 12018
GEO:42.6295627;-73.530262
END:VEVENT
END:VCALENDAR