BEGIN:VCALENDAR
VERSION:2.0
PRODID:-//Tukios.com/
BEGIN:VEVENT
UID:6921711b-a8aa-4aaf-8eac-45139a21345f@www.perrykomdat.com
DTSTAMP:20260425T210655Z
DTSTART:20260429T150000Z
DTEND:20260429T160000Z
SUMMARY:Interment
DESCRIPTION:Arrive at the entrance at 10:45am
URL:https://www.perrykomdat.com/obituaries/dennis-lemner-sr
LOCATION: 200 Duell Rd  Schuylerville NY 12871
GEO:43.0261327;-73.6151241
END:VEVENT
END:VCALENDAR