BEGIN:VCALENDAR
VERSION:2.0
PRODID:-//Tukios.com/
BEGIN:VEVENT
UID:94924e9a-b87d-4784-b023-0bd139562c32@www.perrykomdat.com
DTSTAMP:20260424T183945Z
DTSTART:20260427T133000Z
DTEND:20260427T151500Z
SUMMARY:Visitation
DESCRIPTION:
URL:https://www.perrykomdat.com/obituaries/elizabeth-turner
LOCATION:St. Henry’s Church 32 Old Route 66  Averill Park NY 12018
GEO:42.6354652;-73.5558579
END:VEVENT
END:VCALENDAR