BEGIN:VCALENDAR
VERSION:2.0
PRODID:-//Tukios.com/
BEGIN:VEVENT
UID:18db79b3-971d-4727-ae17-155153d63958@www.perrykomdat.com
DTSTAMP:20260424T183438Z
DTSTART:20260427T153000Z
DTEND:20260427T163000Z
SUMMARY:Mass
DESCRIPTION:
URL:https://www.perrykomdat.com/obituaries/elizabeth-turner
LOCATION:St. Henry’s Church 32 Old Route 66  Averill Park NY 12018
GEO:42.6354652;-73.5558579
END:VEVENT
END:VCALENDAR