BEGIN:VCALENDAR
VERSION:2.0
PRODID:-//Tukios.com/
BEGIN:VEVENT
UID:e1285e48-21e4-468c-8c48-7a13f2db6223@www.perrykomdat.com
DTSTAMP:20260424T183156Z
DTSTART:20260427
SUMMARY:Interment
DESCRIPTION:
URL:https://www.perrykomdat.com/obituaries/elizabeth-turner
LOCATION: 39 Old Rte 66  Averill Park NY 12018
GEO:42.6365165;-73.5577104
END:VEVENT
END:VCALENDAR