BEGIN:VCALENDAR
VERSION:2.0
PRODID:-//Tukios.com/
BEGIN:VEVENT
UID:1937e513-a2ba-438d-80f1-97b83c7638d7@www.perrykomdat.com
DTSTAMP:20260424T183407Z
DTSTART:20260427
SUMMARY:Reception
DESCRIPTION:
URL:https://www.perrykomdat.com/obituaries/elizabeth-turner
LOCATION:Lakeview On Crystal Lake 4 Old Rte 66  Averill Park NY 12018
GEO:42.6349173;-73.5540723
END:VEVENT
END:VCALENDAR